BEGIN:VCALENDAR
PRODID:-//Session events Calendar//IBA//EN
CALSCALE:GREGORIAN
VERSION:2.0
BEGIN:VEVENT
DTSTAMP:20260421T011019Z
DTSTART:20230124T190000Z
DTEND:20230124T200000Z
SUMMARY:Session six: hot topics four 
DESCRIPTION:The same topics from session five will run again\, please sel
 ect another twotopics to join.\n\n1. Best practices for obtaining patent
  protection in the Americas\, Europe and India - strategic licensing and
  new licensing models\n\n2. Out of this world! – trademark protection in
  outer space\n\n3.Cross jurisdictional legal insights on smart mobility 
 technology deployment\n\n4. Update on US privacy laws\n\n5. Representati
 ons and warranties in tech M&amp\;A transactions\n\n6. Diversity\, equit
 y and inclusion in technology industries – from inception through financ
 ing and exit\n\n7. What’s new with rights of publicity - the power of st
 udent-athletes owning their name\, image\, and likeness\n\n8. Global tre
 nds concerning fair use defences\n\n9. NFTs\, the Metaverse\, and Big Da
 ta\n\n10. Foreign investment regulation - tech transactions under increa
 sed scrutiny\n
LOCATION:
UID:1fced1c1-7481-42d3-8e4c-eb524ddd2720
END:VEVENT
END:VCALENDAR
