BEGIN:VCALENDAR
PRODID:-//Session events Calendar//IBA//EN
CALSCALE:GREGORIAN
VERSION:2.0
BEGIN:VEVENT
DTSTAMP:20260421T011026Z
DTSTART:20230124T183000Z
DTEND:20230124T190000Z
SUMMARY:Coffee/tea break
DESCRIPTION:
LOCATION:
UID:2a3deaea-e509-483b-ba67-7b9ad7fdfc52
END:VEVENT
END:VCALENDAR
