BEGIN:VCALENDAR
PRODID:-//Session events Calendar//IBA//EN
CALSCALE:GREGORIAN
VERSION:2.0
BEGIN:VEVENT
DTSTAMP:20260421T011026Z
DTSTART:20230124T173000Z
DTEND:20230124T183000Z
SUMMARY:Session five: hot topics three 
DESCRIPTION:1. Best practices for obtaining patent protection in the Amer
 icas\, Europe and India - strategic licensing and new licensing model\n\
 n2.. Cross jurisdictional legal insights on smart mobility technology de
 ployment\n\n3. Update on US privacy laws\n\n4. Representations and warra
 nties in tech M&amp\;A transactions\n\n5. Diversity\, equity and inclusi
 on in technology industries – from inception through financing and exit\
 n\n6. What’s new with rights of publicity - the power of student-athlete
 s owning their name\, image\, and likeness\n\n7. Global trends concernin
 g fair use defences\n\n8. NFTs\, the Metaverse\, and Big Data\n\n9. Fore
 ign investment regulation - tech transactions under increased scrutiny\n
 
LOCATION:
UID:c301feef-799d-4c87-9d58-01f5b79307e0
END:VEVENT
END:VCALENDAR
