BEGIN:VCALENDAR
PRODID:-//Session events Calendar//IBA//EN
CALSCALE:GREGORIAN
VERSION:2.0
BEGIN:VEVENT
DTSTAMP:20260421T011026Z
DTSTART:20230123T233000Z
DTEND:20230124T010000Z
SUMMARY:Session four: M&A and financing in exits: the ultimate founder’s 
 dream
DESCRIPTION:This panel will address the role of financing an M&amp\;A dea
 l as an exit for founders and initial investors. When is the right time 
 to exit? Strategic vs buyout fund. Common issues when financing exits? F
 ounders role beyond the deal: temporary stay or complete exit. What crea
 tes more value and less conflicts?\n
LOCATION:
UID:5c61ba0c-d47b-4d4d-b34f-bcf6fec57145
END:VEVENT
END:VCALENDAR
