BEGIN:VCALENDAR
PRODID:-//Session events Calendar//IBA//EN
CALSCALE:GREGORIAN
VERSION:2.0
BEGIN:VEVENT
DTSTAMP:20260421T011026Z
DTSTART:20230123T230000Z
DTEND:20230123T233000Z
SUMMARY:Coffee/tea break 
DESCRIPTION:
LOCATION:
UID:74ed44c3-7ff6-4ae8-a3f5-249e746a77bd
END:VEVENT
END:VCALENDAR
