BEGIN:VCALENDAR
PRODID:-//Session events Calendar//IBA//EN
CALSCALE:GREGORIAN
VERSION:2.0
BEGIN:VEVENT
DTSTAMP:20260421T011026Z
DTSTART:20230123T200000Z
DTEND:20230123T210000Z
SUMMARY:Lunch
DESCRIPTION:
LOCATION:
UID:0a8922ad-e3e9-44f4-addd-30639ecef1d6
END:VEVENT
END:VCALENDAR
