BEGIN:VCALENDAR
PRODID:-//Session events Calendar//IBA//EN
CALSCALE:GREGORIAN
VERSION:2.0
BEGIN:VEVENT
DTSTAMP:20260421T011026Z
DTSTART:20230123T190000Z
DTEND:20230123T200000Z
SUMMARY:Session two: hot topics two
DESCRIPTION:The same topics from session one will run again\, please sele
 ct another twotopics to join.\n\n1. IP in the metaverse and beyond\n\n2.
  Going green – protecting and encouraging green technology innovation wi
 th IP\n\n3. New framework for transatlantic data transfers\n\n4. Navigat
 ing the dynamics of cyber risk landscape in M&amp\;A transactions and be
 yond\n\n5. Incentivising employees – retention following mergers\n\n6. F
 undraising structures for start-ups\n\n7. Fashion &amp\; beauty – best s
 trategies for protecting fashion designs in US\, Europe and Asia\n\n8. T
 echnology and IP litigation at what cost? A discussion of insurance cove
 rage for legal fees and litigation funding (supportive or trolls in shee
 p’s clothing?)\n\n9. Impact of DSA on US firms\n\n10. Cloud contracting 
 for the public sector - overcoming doubts and legal challenges\n\n11. Em
 erging litigation and regulatory risks in crypto\n\n12. Corporate struct
 ures for start-ups – the Delaware Flip or not?\n\n13.Out of this world! 
 – trademark protection in outer space\n
LOCATION:
UID:b8dff70a-004e-470e-9f5e-f91a399c9f97
END:VEVENT
END:VCALENDAR
