BEGIN:VCALENDAR
PRODID:-//Session events Calendar//IBA//EN
CALSCALE:GREGORIAN
VERSION:2.0
BEGIN:VEVENT
DTSTAMP:20260421T011100Z
DTSTART:20230123T183000Z
DTEND:20230123T190000Z
SUMMARY:Coffee/tea break
DESCRIPTION:
LOCATION:
UID:dc6f3a86-9b63-4fa4-8df3-a46258921038
END:VEVENT
END:VCALENDAR
