BEGIN:VCALENDAR
PRODID:-//Session events Calendar//IBA//EN
CALSCALE:GREGORIAN
VERSION:2.0
BEGIN:VEVENT
DTSTAMP:20260421T011026Z
DTSTART:20230123T171000Z
DTEND:20230123T173000Z
SUMMARY:Keynote address 
DESCRIPTION:
LOCATION:
UID:13e58c7b-deed-4631-938b-6528b19c1bae
END:VEVENT
END:VCALENDAR
