BEGIN:VCALENDAR
PRODID:-//Session events Calendar//IBA//EN
CALSCALE:GREGORIAN
VERSION:2.0
BEGIN:VEVENT
DTSTAMP:20260422T020002Z
DTSTART:20221101T213000Z
DTEND:20221101T223000Z
SUMMARY:China Working Group drinks reception
DESCRIPTION:
LOCATION:Room 236\, Level 2
UID:a4b54e99-6ec8-41a8-9608-df62d0473977
END:VEVENT
END:VCALENDAR
