BEGIN:VCALENDAR
PRODID:-//Session events Calendar//IBA//EN
CALSCALE:GREGORIAN
VERSION:2.0
BEGIN:VEVENT
DTSTAMP:20260422T020026Z
DTSTART:20221101T190000Z
DTEND:20221101T200000Z
SUMMARY:Academic and Professional Development Committee open business mee
 ting
DESCRIPTION:An open meeting of the Academic and Professional Development 
 Committee held to discuss matters of interest and future activities.
LOCATION:Room 224\, Floor 2
UID:c99c83c5-06e1-4076-b3b4-8144bfd731af
END:VEVENT
END:VCALENDAR
