BEGIN:VCALENDAR
PRODID:-//Session events Calendar//IBA//EN
CALSCALE:GREGORIAN
VERSION:2.0
BEGIN:VEVENT
DTSTAMP:20260422T020041Z
DTSTART:20221103T163000Z
DTEND:20221103T173000Z
SUMMARY:Immigration and Nationality Law Committee open business meeting
DESCRIPTION:An open meeting of the Immigration and Nationality Law Commit
 tee held to discuss matters of interest and future activities.
LOCATION:Room 225\, Level 2
UID:3e7cb7b5-5b1a-4e71-b7fa-6c217262946d
END:VEVENT
END:VCALENDAR
