BEGIN:VCALENDAR
PRODID:-//Session events Calendar//IBA//EN
CALSCALE:GREGORIAN
VERSION:2.0
BEGIN:VEVENT
DTSTAMP:20260422T020041Z
DTSTART:20221101T163000Z
DTEND:20221101T183000Z
SUMMARY:Business Human Rights Committee open business meeting
DESCRIPTION:An open meeting of the Business Human Rights Committee held t
 o discuss matters of interest and future activities.
LOCATION:Room 214\, Level 2
UID:b1096c44-a8fa-4a5a-ac87-cb46757d5876
END:VEVENT
END:VCALENDAR
