BEGIN:VCALENDAR
PRODID:-//Session events Calendar//IBA//EN
CALSCALE:GREGORIAN
VERSION:2.0
BEGIN:VEVENT
DTSTAMP:20260422T033640Z
DTSTART:20221101T170000Z
DTEND:20221101T174500Z
SUMMARY:Oil and Gas Law Committee open business meeting
DESCRIPTION:An open meeting of the Oil and Gas Law Committee held to disc
 uss matters of interest and future activities.
LOCATION:Rooms 203-205\, Level 2
UID:fe33e8f1-b666-46e4-b0dd-0b1e66046eb2
END:VEVENT
END:VCALENDAR
