BEGIN:VCALENDAR
PRODID:-//Session events Calendar//IBA//EN
CALSCALE:GREGORIAN
VERSION:2.0
BEGIN:VEVENT
DTSTAMP:20260422T020024Z
DTSTART:20221101T183000Z
DTEND:20221101T193000Z
SUMMARY:Latin American Regional Forum open business meeting
DESCRIPTION:An open meeting of the Latin American Regional Forum held to 
 discuss matters of interest and future activities.
LOCATION:Room 226\, Level 2
UID:b019fe3d-e613-4adb-b219-8108d6e6d2da
END:VEVENT
END:VCALENDAR
