BEGIN:VCALENDAR
PRODID:-//Session events Calendar//IBA//EN
CALSCALE:GREGORIAN
VERSION:2.0
BEGIN:VEVENT
DTSTAMP:20260422T020040Z
DTSTART:20221101T184500Z
DTEND:20221101T194500Z
SUMMARY:India Working Group open business meeting
DESCRIPTION:An open meeting of the India Working Group held to discuss ma
 tters of interest and future activities.
LOCATION:Room 227\, Level 2
UID:ad02175a-5828-4875-aef9-d2243a20267b
END:VEVENT
END:VCALENDAR
