BEGIN:VCALENDAR
PRODID:-//Session events Calendar//IBA//EN
CALSCALE:GREGORIAN
VERSION:2.0
BEGIN:VEVENT
DTSTAMP:20260422T020042Z
DTSTART:20221102T200000Z
DTEND:20221102T210000Z
SUMMARY:Senior Lawyers' Committee open business meeting
DESCRIPTION:An open meeting of the Senior Lawyers' Committee held to disc
 uss matters of interest and future activities.
LOCATION:Room 223\, Level 2
UID:5d41f6eb-ac73-407c-8062-c1e5866ebc76
END:VEVENT
END:VCALENDAR
