BEGIN:VCALENDAR
PRODID:-//Session events Calendar//IBA//EN
CALSCALE:GREGORIAN
VERSION:2.0
BEGIN:VEVENT
DTSTAMP:20260422T020022Z
DTSTART:20221103T130000Z
DTEND:20221103T160000Z
SUMMARY:Aviation offsite tour
DESCRIPTION:Join us for a tour of the local aviation facilities.\n\nSpace
 s are limited and are assigned on a first come\, first served basis. Reg
 istration is only possible onsite\, and registered conference delegates 
 can sign up at the Speakers‘ Desk by the IBA Registration Desk.\n\nFor t
 hose who are registered\, it is advised to be on the bus five to ten min
 utes before the departure time.\n
LOCATION:OFFSITE
UID:6998e612-4e25-4993-8576-4cf8db13e9c0
END:VEVENT
END:VCALENDAR
