BEGIN:VCALENDAR
PRODID:-//Session events Calendar//IBA//EN
CALSCALE:GREGORIAN
VERSION:2.0
BEGIN:VEVENT
DTSTAMP:20260422T020039Z
DTSTART:20221101T163000Z
DTEND:20221101T170000Z
SUMMARY:Intellectual Property and Entertainment Law Committee open busine
 ss meeting
DESCRIPTION:An open meeting of the Intellectual Property and Entertainmen
 t Law Committee held to discuss matters of interest and future activitie
 s.\n
LOCATION:Room 206\, Level 2
UID:eec0ef49-a98d-4073-a4c2-91c6153c2837
END:VEVENT
END:VCALENDAR
