BEGIN:VCALENDAR
PRODID:-//Session events Calendar//IBA//EN
CALSCALE:GREGORIAN
VERSION:2.0
BEGIN:VEVENT
DTSTAMP:20260422T020152Z
DTSTART:20221103T141500Z
DTEND:20221103T144500Z
SUMMARY:Taxes Committee open business meeting
DESCRIPTION:An open meeting of the Taxes Committee held to discuss matter
 s of interest and future activities.
LOCATION:Room 210\, Level 2
UID:5bf972f5-92bb-4924-9524-578694b930bc
END:VEVENT
END:VCALENDAR
