BEGIN:VCALENDAR
PRODID:-//Session events Calendar//IBA//EN
CALSCALE:GREGORIAN
VERSION:2.0
BEGIN:VEVENT
DTSTAMP:20260420T145930Z
DTSTART:20221124T123000Z
DTEND:20221124T133000Z
SUMMARY:Lunch
DESCRIPTION:
LOCATION:
UID:6a4e4294-6d7d-4db9-bd57-ff4d625cab3f
END:VEVENT
END:VCALENDAR
