BEGIN:VCALENDAR
PRODID:-//Session events Calendar//IBA//EN
CALSCALE:GREGORIAN
VERSION:2.0
BEGIN:VEVENT
DTSTAMP:20260420T145930Z
DTSTART:20221125T113000Z
DTEND:20221125T123000Z
SUMMARY:Lunch
DESCRIPTION:
LOCATION:
UID:967f2a3b-b0b4-4e6c-a20c-6d903c5e7c1f
END:VEVENT
END:VCALENDAR
