BEGIN:VCALENDAR
PRODID:-//Session events Calendar//IBA//EN
CALSCALE:GREGORIAN
VERSION:2.0
BEGIN:VEVENT
DTSTAMP:20260420T145904Z
DTSTART:20221125T100000Z
DTEND:20221125T101500Z
SUMMARY:Coffee/tea break
DESCRIPTION:
LOCATION:
UID:30f59040-5123-4527-8723-cebbac354d59
END:VEVENT
END:VCALENDAR
