BEGIN:VCALENDAR
PRODID:-//Session events Calendar//IBA//EN
CALSCALE:GREGORIAN
VERSION:2.0
BEGIN:VEVENT
DTSTAMP:20260420T145929Z
DTSTART:20221125T141500Z
DTEND:20221125T143000Z
SUMMARY:Coffee/tea break
DESCRIPTION:
LOCATION:
UID:b6b5060d-831e-4cd8-816a-4aaed7b77aa1
END:VEVENT
END:VCALENDAR
