BEGIN:VCALENDAR
PRODID:-//Session events Calendar//IBA//EN
CALSCALE:GREGORIAN
VERSION:2.0
BEGIN:VEVENT
DTSTAMP:20260420T145930Z
DTSTART:20221124T153000Z
DTEND:20221124T154500Z
SUMMARY:Coffee/tea break
DESCRIPTION:
LOCATION:
UID:99a0643f-dd89-4601-a47a-cca0928f2f0f
END:VEVENT
END:VCALENDAR
