BEGIN:VCALENDAR
PRODID:-//Session events Calendar//IBA//EN
CALSCALE:GREGORIAN
VERSION:2.0
BEGIN:VEVENT
DTSTAMP:20260420T090933Z
DTSTART:20221125T081500Z
DTEND:20221125T084500Z
SUMMARY:Keynote Address
DESCRIPTION:
LOCATION:
UID:c2751334-7b1a-48cc-842a-ea030a554b94
END:VEVENT
END:VCALENDAR
