BEGIN:VCALENDAR
PRODID:-//Session events Calendar//IBA//EN
CALSCALE:GREGORIAN
VERSION:2.0
BEGIN:VEVENT
DTSTAMP:20260422T020027Z
DTSTART:20221102T173000Z
DTEND:20221102T183000Z
SUMMARY:Employment and Industrial Relations Law Committee and Diversity a
 nd Equality Law Committee open business meeting
DESCRIPTION:A joint open meeting of the Employment and Industrial Relatio
 ns Law Committee and the Diversity and Equality Law Committee held to di
 scuss matters of interest and future activities.
LOCATION:Room 232\, Level 2
UID:6a254b2b-e8fc-4b7d-aeba-ea19d1b49449
END:VEVENT
END:VCALENDAR
