BEGIN:VCALENDAR
PRODID:-//Session events Calendar//IBA//EN
CALSCALE:GREGORIAN
VERSION:2.0
BEGIN:VEVENT
DTSTAMP:20260422T033625Z
DTSTART:20221103T144500Z
DTEND:20221103T154500Z
SUMMARY:Alternative and New Law Business Structures Committee open busine
 ss meeting
DESCRIPTION:An open meeting of the Alternative and New Law Business Struc
 tures Committee held to discuss matters of interest and future activitie
 s.
LOCATION:Room 215\, Level 2
UID:441dc0d2-437f-4128-9e16-d3087ddc7fa7
END:VEVENT
END:VCALENDAR
