BEGIN:VCALENDAR
PRODID:-//Session events Calendar//IBA//EN
CALSCALE:GREGORIAN
VERSION:2.0
BEGIN:VEVENT
DTSTAMP:20260422T020003Z
DTSTART:20221103T163000Z
DTEND:20221103T173000Z
SUMMARY:Global Employment Institute open business meeting
DESCRIPTION:An open meeting of the IBA Global Employment Institute held t
 o discuss matters of interest and future activities.
LOCATION:Room 229 B\, Level 2
UID:557fb05b-c60c-48cc-93ea-4b5bc5232286
END:VEVENT
END:VCALENDAR
