BEGIN:VCALENDAR
PRODID:-//Session events Calendar//IBA//EN
CALSCALE:GREGORIAN
VERSION:2.0
BEGIN:VEVENT
DTSTAMP:20260422T015903Z
DTSTART:20221101T144500Z
DTEND:20221101T154500Z
SUMMARY:International Franchising Committee open business meeting
DESCRIPTION:An open meeting of the International Franchising Committee he
 ld to discuss matters of interest and future activities.
LOCATION:Room 224\, Level 2
UID:ef30edca-b802-40a0-b5d3-2c6d0cf54721
END:VEVENT
END:VCALENDAR
