BEGIN:VCALENDAR
PRODID:-//Session events Calendar//IBA//EN
CALSCALE:GREGORIAN
VERSION:2.0
BEGIN:VEVENT
DTSTAMP:20260422T020204Z
DTSTART:20221031T150000Z
DTEND:20221031T163000Z
SUMMARY:Poverty and Social Development Committee open business meeting
DESCRIPTION:An open meeting of the Poverty and Social Development Committ
 ee held to discuss matters of interest and future activities.
LOCATION:Room 215\, Level 2
UID:0978d777-1eeb-4f25-8e69-e4d6184f050e
END:VEVENT
END:VCALENDAR
