BEGIN:VCALENDAR
PRODID:-//Session events Calendar//IBA//EN
CALSCALE:GREGORIAN
VERSION:2.0
BEGIN:VEVENT
DTSTAMP:20260422T020006Z
DTSTART:20221103T163000Z
DTEND:20221103T173000Z
SUMMARY:Professional Ethics Committee open business meeting
DESCRIPTION:An open meeting of the Professional Ethics Committee held to 
 discuss matters of interest and future activities.
LOCATION:Room 232\, Level 2
UID:a02993ca-bc20-459b-a06e-c750d351df25
END:VEVENT
END:VCALENDAR
