BEGIN:VCALENDAR
PRODID:-//Session events Calendar//IBA//EN
CALSCALE:GREGORIAN
VERSION:2.0
BEGIN:VEVENT
DTSTAMP:20260422T020026Z
DTSTART:20221101T213000Z
DTEND:20221101T223000Z
SUMMARY:International Commerce and Distribution Committee open business m
 eeting
DESCRIPTION:An open meeting of the International Commerce and Distributio
 n Committee held to discuss matters of interest and future activities.
LOCATION:Room 206\, Level 2
UID:1f636981-726e-447b-833e-ff3403a026aa
END:VEVENT
END:VCALENDAR
