BEGIN:VCALENDAR
PRODID:-//Session events Calendar//IBA//EN
CALSCALE:GREGORIAN
VERSION:2.0
BEGIN:VEVENT
DTSTAMP:20260422T020039Z
DTSTART:20221031T173000Z
DTEND:20221031T183000Z
SUMMARY:Agricultural Law Section open business meeting
DESCRIPTION:An open meeting of the Agricultural Law Section held to discu
 ss matters of interest and future activities.
LOCATION:Room 237\, Level 2
UID:1dfab036-3d47-4426-89dc-98bac03246c2
END:VEVENT
END:VCALENDAR
