BEGIN:VCALENDAR
PRODID:-//Session events Calendar//IBA//EN
CALSCALE:GREGORIAN
VERSION:2.0
BEGIN:VEVENT
DTSTAMP:20260422T020022Z
DTSTART:20221103T163000Z
DTEND:20221103T173000Z
SUMMARY:Anti-Corruption Committee open business meeting
DESCRIPTION:An open meeting of the International Construction Projects Co
 mmittee held to discuss matters of interest and future activities.
LOCATION:Room 210\, Level 2
UID:1f7a3adb-3fca-4405-853c-5d3b9cbd3011
END:VEVENT
END:VCALENDAR
