BEGIN:VCALENDAR
PRODID:-//Session events Calendar//IBA//EN
CALSCALE:GREGORIAN
VERSION:2.0
BEGIN:VEVENT
DTSTAMP:20260422T020023Z
DTSTART:20221102T151500Z
DTEND:20221102T161500Z
SUMMARY:European Regional Forum open business meeting
DESCRIPTION:An open meeting of the European Regional Forum held to discus
 s matters of interest and future activities.
LOCATION:Room 222\, Level 2
UID:9ad0de57-d4b2-4918-bfe6-b07974551cd5
END:VEVENT
END:VCALENDAR
