BEGIN:VCALENDAR
PRODID:-//Session events Calendar//IBA//EN
CALSCALE:GREGORIAN
VERSION:2.0
BEGIN:VEVENT
DTSTAMP:20260422T020022Z
DTSTART:20221102T133000Z
DTEND:20221102T163000Z
SUMMARY:BIC Bar Leaders’ Forum
DESCRIPTION:This is an opportunity for Member Organisation Representative
 s to be updated on the status of ongoing projects in which the IBA is in
 volved\, and specifically those that touch on sensitive areas for bar as
 sociations.\nIt will also allow them to find out what work is being plan
 ned\, and propose subject matter and programmes for future activities wi
 thin our very dynamic BIC.
LOCATION:Room 207\, Level 2
UID:fd09f417-b685-44bf-a52c-39a6400ee20e
END:VEVENT
END:VCALENDAR
