BEGIN:VCALENDAR
PRODID:-//Session events Calendar//IBA//EN
CALSCALE:GREGORIAN
VERSION:2.0
BEGIN:VEVENT
DTSTAMP:20260422T020023Z
DTSTART:20221102T180000Z
DTEND:20221102T214500Z
SUMMARY:Law firm visits
DESCRIPTION:Delegates have the opportunity to visit several Miami law fir
 ms to discuss strategy\, practice areas and practice management\, organi
 sational issues\, marketing and office systems.\n\nSpaces for the tour a
 re limited and are assigned on a first come\, first served basis. Regist
 ered conference delegates can sign up onsite at the Speakers‘ Desk by th
 e IBA Registration Desk. For those who are registered\, it is advised to
  be on the bus five to ten minutes before the departuretime.\n
LOCATION:OFFSITE
UID:90872f2f-9d14-4b5b-a2fb-314aa7d9fc59
END:VEVENT
END:VCALENDAR
