BEGIN:VCALENDAR
PRODID:-//Session events Calendar//IBA//EN
CALSCALE:GREGORIAN
VERSION:2.0
BEGIN:VEVENT
DTSTAMP:20260422T020039Z
DTSTART:20221101T120000Z
DTEND:20221101T131500Z
SUMMARY:Business and Human Rights Committee breakfast
DESCRIPTION:HumanRightsA breakfast meeting of the Business Human Rights C
 ommittee will take place to discuss matters of interest and future activ
 ities\, as well as to provide updates on the activities of the Committee
 .
LOCATION:Sunset Vista Ballroom D\, Level 4
UID:1400dd69-e1dd-443a-9036-b228461164c9
END:VEVENT
END:VCALENDAR
