BEGIN:VCALENDAR
PRODID:-//Session events Calendar//IBA//EN
CALSCALE:GREGORIAN
VERSION:2.0
BEGIN:VEVENT
DTSTAMP:20260422T020022Z
DTSTART:20221101T163000Z
DTEND:20221101T173000Z
SUMMARY:Law Firm Management Committee open business meeting
DESCRIPTION:An open meeting of the Law Firm Management Committee held to 
 discuss matters of interest and future activities.\n
LOCATION:Room 228 AB\, Level 2
UID:eda377dc-1ec5-4db7-9e2b-e6ebeda6c87c
END:VEVENT
END:VCALENDAR
