BEGIN:VCALENDAR
PRODID:-//Session events Calendar//IBA//EN
CALSCALE:GREGORIAN
VERSION:2.0
BEGIN:VEVENT
DTSTAMP:20260421T085658Z
DTSTART:20230424T094500Z
DTEND:20230424T110000Z
SUMMARY:Financial sponsors bonanza – revived appetite from sovereign and 
 pension funds\, private equity and VC players
DESCRIPTION:Sovereign and pension wealth funds are piling into India\, bu
 ying stakes in everything from airports to renewable energy\, and other 
 emerging asset classes. This panel will discuss the growing appetite of 
 these players for India and the reasons for this investment. What measur
 es are further needed to increase the interest of these players in the I
 ndian market?
LOCATION:
UID:6c061df6-cb74-4960-bd42-7bebd6bdcd6d
END:VEVENT
END:VCALENDAR
