BEGIN:VCALENDAR
PRODID:-//Session events Calendar//IBA//EN
CALSCALE:GREGORIAN
VERSION:2.0
BEGIN:VEVENT
DTSTAMP:20260422T020041Z
DTSTART:20221031T173000Z
DTEND:20221031T183000Z
SUMMARY:Indigenous Peoples Committee open business meeting
DESCRIPTION:An open meeting of the Indigenous Peoples Committee held to d
 iscuss matters of interest and future activities.
LOCATION:Room 236\, Level 2
UID:524f9e0c-b8c7-40b6-aba5-9785807d6e07
END:VEVENT
END:VCALENDAR
