BEGIN:VCALENDAR
PRODID:-//Session events Calendar//IBA//EN
CALSCALE:GREGORIAN
VERSION:2.0
BEGIN:VEVENT
DTSTAMP:20260422T020043Z
DTSTART:20221101T133000Z
DTEND:20221101T144500Z
SUMMARY:Crimmigration: the intersection of criminal and immigration law
DESCRIPTION:In many countries\, natives and immigrants are punished diffe
 rently under the law. In addition to paying fines and facing incarcerati
 on\, some non-citizens also face additional immigration penalties for vi
 olating laws and some countries have made violating immigration law itse
 lf a criminal act. Additionally\, some countries offer crime victims and
  witnesses visa benefits. This panel will discuss these topics as well a
 s the overall collaboration between immigration and criminal lawyers as 
 they seek to represent their mutual clients.
LOCATION:Room 233\, Level 2
UID:ea8d864d-8e40-4adf-85aa-a1bb131d7ccb
END:VEVENT
END:VCALENDAR
