BEGIN:VCALENDAR
PRODID:-//Session events Calendar//IBA//EN
CALSCALE:GREGORIAN
VERSION:2.0
BEGIN:VEVENT
DTSTAMP:20260422T020005Z
DTSTART:20221103T144500Z
DTEND:20221103T153000Z
SUMMARY:Legal Practice Division General Meeting
DESCRIPTION:All Division members are encouraged to attend this meeting an
 d are invited to put to the Officers any questions they may have\, relev
 ant to the work of the Division.\n\nAnnouncement: Legal Practice Divisio
 n General Meeting Agenda\, 3 November 2022\, Miami\, Florida\, USA\nIn a
 ccordance with the Legal Practice Division (LPD) By-Laws\, Article 7.3 t
 his serves as notice of the LPD General Meeting that will take place on 
 Thursday 3 November at the time of the IBA 2022 Annual Conference in Mia
 mi. Please click the link under "Session handouts" below to download and
  view the meeting agenda. This meeting will elect the Principal Officers
  and Council members of the Division. All Legal Practice Division member
 s are eligible to attend the meeting.\n\n\n\n
LOCATION:Rooms 226-227\, Level 2
UID:3045a16a-c159-4ab2-bf18-5f158c45f35a
END:VEVENT
END:VCALENDAR
