BEGIN:VCALENDAR
PRODID:-//Session events Calendar//IBA//EN
CALSCALE:GREGORIAN
VERSION:2.0
BEGIN:VEVENT
DTSTAMP:20260422T020042Z
DTSTART:20221103T144500Z
DTEND:20221103T153000Z
SUMMARY:IBA's Human Rights Institute (IBAHRI) General Meeting
DESCRIPTION:HumanRightsConference attendees are invited to participate in
  this general meeting of the IBAHRI. During the meeting\, IBAHRI Directo
 r Baroness Kennedy and IBAHRI Co-Chairs Anne Ramberg Dr Jur hc and Mark 
 Stephens CBE will discuss IBAHRI’s programmes and topical issues regardi
 ng human rights today. The discussion will be open to questions and sugg
 estions related to the past\, present and future work of the IBAHRI.
LOCATION:Room 213\, Level 2
UID:76587de5-f85e-429d-8094-ee92434b4ca2
END:VEVENT
END:VCALENDAR
