BEGIN:VCALENDAR
PRODID:-//Session events Calendar//IBA//EN
CALSCALE:GREGORIAN
VERSION:2.0
BEGIN:VEVENT
DTSTAMP:20260422T015952Z
DTSTART:20221103T201500Z
DTEND:20221103T213000Z
SUMMARY:International Construction Project Committee open business meetin
 g
DESCRIPTION:An open meeting of the International Construction Projects Co
 mmittee held to discuss matters of interest and future activities.\n
LOCATION:Room 208\, Level 2
UID:7cfbac79-94f9-47a7-8b06-2cb9b0a0f5d6
END:VEVENT
END:VCALENDAR
