BEGIN:VCALENDAR
PRODID:-//Session events Calendar//IBA//EN
CALSCALE:GREGORIAN
VERSION:2.0
BEGIN:VEVENT
DTSTAMP:20260422T020023Z
DTSTART:20221103T151500Z
DTEND:20221103T163000Z
SUMMARY:How Covid-19 has turned out to be a major accelerator for change 
 in the healthcare and life sciences industries
DESCRIPTION:While Covid-19 has been the greatest global catastrophe since
  World War II\, the unprecedented needs of humankind have imposed multip
 le changes in the healthcare and life sciences industries. The tradition
 al supply chain models have been rapidly surpassed\, scientific research
  made notable progress\, the funds invested in the industries have soare
 d and telemedicine has come to stay. The healthcare and life sciences in
 dustries have a new face and are exposed to challenges which were almost
  unknown up to very recent times. Those are some of the issues this sess
 ion is going to address\, with special emphasis on the role of policy-ma
 kers\, regulators and lawyers.
LOCATION:Room 236\, Level 2
UID:5f22e7c1-4a7b-4767-9256-053e5f749ed2
END:VEVENT
END:VCALENDAR
