BEGIN:VCALENDAR
PRODID:-//Session events Calendar//IBA//EN
CALSCALE:GREGORIAN
VERSION:2.0
BEGIN:VEVENT
DTSTAMP:20260422T020151Z
DTSTART:20221102T120000Z
DTEND:20221102T131500Z
SUMMARY:Family Law Committee breakfast
DESCRIPTION:A breakfast meeting of the Family Law Committee to discuss ma
 tters of interest and future activities.
LOCATION:Sunset Vista Ballroom D\, Level 4
UID:e2b62d93-41ce-448d-b6b2-56d0740cda82
END:VEVENT
END:VCALENDAR
