BEGIN:VCALENDAR
PRODID:-//Session events Calendar//IBA//EN
CALSCALE:GREGORIAN
VERSION:2.0
BEGIN:VEVENT
DTSTAMP:20260422T015903Z
DTSTART:20221101T120000Z
DTEND:20221101T131500Z
SUMMARY:IBA Bar Breakfast hosted by the American Bar Association
DESCRIPTION:Is the rule of law dead?\n\nRuleOfLawBreakfastsWe are at a cr
 itical moment in world history. Citizens around the world are divided ov
 er many issues— public health\, climate change and the rise in nationali
 sm—to name a few. These divisions have caused\, or have the potential to
  cause\, a decreasing faith in the legitimacy of institutions and a grow
 ing distrust among their citizenry. We have seen attacks on the justice 
 system\, and indeed physical attacks on judges (and lawyers) themselves.
  Such assaults\, whether rhetorical or physical\, jeopardize the rule of
  law across the spectrum of jurisdictions. In this time of division\, wh
 at can bar associations and the legal profession do to lead the way in t
 o restore confidence in our democratic institutions\, in the judicial sy
 stem\, and to protect the rule of law? The panel will discuss these issu
 es\, and undoubtedly bring forth more questions than answers\, but promi
 ses a provocative discussion on this most fundamental of questions.\n
LOCATION:Sunset Vista Ballroom B\, Level 4\, Miami Beach Convention Cente
 r
UID:2ee6fa1b-1902-4574-a120-45d423230104
END:VEVENT
END:VCALENDAR
