BEGIN:VCALENDAR
PRODID:-//Session events Calendar//IBA//EN
CALSCALE:GREGORIAN
VERSION:2.0
BEGIN:VEVENT
DTSTAMP:20260422T015951Z
DTSTART:20221102T180000Z
DTEND:20221102T210000Z
SUMMARY:Real estate offsite tour
DESCRIPTION:A relaxed opportunity to network whilst also getting an insid
 er’s look at landmark developments in Miami’s key districts. We will be 
 guided by CBRE and visit Southeast Financial Center at 200 South Biscayn
 e Boulevard and 1221 Brickell Ave\, Brickell\, Miami.\n\nSpaces are limi
 ted and are assigned on a first come\, first served basis. Registration 
 is only possible onsite\, and registered conference delegates can sign u
 p at the Speakers' Desk by the IBA Registration Desk.\n\nFor those who a
 re registered\, it is advised to be on the bus five to ten minutes befor
 e the departure time.\n
LOCATION:OFFSITE
UID:f3418e03-0f71-4593-943a-7ea75d37a7fb
END:VEVENT
END:VCALENDAR
